BEGIN:VCALENDAR
VERSION:2.0
PRODID:-//Explore North Augusta - ECPv6.15.20//NONSGML v1.0//EN
CALSCALE:GREGORIAN
METHOD:PUBLISH
X-ORIGINAL-URL:https://explorenorthaugusta.com
X-WR-CALDESC:Events for Explore North Augusta
REFRESH-INTERVAL;VALUE=DURATION:PT1H
X-Robots-Tag:noindex
X-PUBLISHED-TTL:PT1H
BEGIN:VTIMEZONE
TZID:America/New_York
BEGIN:DAYLIGHT
TZOFFSETFROM:-0500
TZOFFSETTO:-0400
TZNAME:EDT
DTSTART:20250309T070000
END:DAYLIGHT
BEGIN:STANDARD
TZOFFSETFROM:-0400
TZOFFSETTO:-0500
TZNAME:EST
DTSTART:20251102T060000
END:STANDARD
BEGIN:DAYLIGHT
TZOFFSETFROM:-0500
TZOFFSETTO:-0400
TZNAME:EDT
DTSTART:20260308T070000
END:DAYLIGHT
BEGIN:STANDARD
TZOFFSETFROM:-0400
TZOFFSETTO:-0500
TZNAME:EST
DTSTART:20261101T060000
END:STANDARD
BEGIN:DAYLIGHT
TZOFFSETFROM:-0500
TZOFFSETTO:-0400
TZNAME:EDT
DTSTART:20270314T070000
END:DAYLIGHT
BEGIN:STANDARD
TZOFFSETFROM:-0400
TZOFFSETTO:-0500
TZNAME:EST
DTSTART:20271107T060000
END:STANDARD
END:VTIMEZONE
BEGIN:VEVENT
DTSTART;TZID=America/New_York:20260425T180000
DTEND;TZID=America/New_York:20260425T223000
DTSTAMP:20260420T115643
CREATED:20260416T135337Z
LAST-MODIFIED:20260416T135337Z
UID:10001843-1777140000-1777156200@explorenorthaugusta.com
SUMMARY:Family Earth and Sky Night
DESCRIPTION:Join in for an unforgettable evening of discovery at the Ruth Patrick Science Education Center at USC Aiken on Saturday\, April 25\, 2026!\nCelebrate Earth Day and National Astronomy Day with a fun-filled night for the whole family featuring: Hands-on science activities 6-8:30pm Planetarium shows 6:30\, 7:30\, 8:30\, 9:30pm Night-sky viewing under the stars 8:30-10:30pm\nBring your curiosity and come explore the wonders of our planet and beyond!
URL:https://explorenorthaugusta.com/calendar/family-earth-and-sky-night/
LOCATION:University of South Carolina Aiken\, 471 University Parkway\, Aiken\, SC\, 29801\, United States
ATTACH;FMTTYPE=image/jpeg:https://explorenorthaugusta.com/wp-content/uploads/2026/04/AstroEarthDay.jpg
ORGANIZER;CN="Ruth Patrick Science Education Center":MAILTO:rpsec@usca.edu
END:VEVENT
END:VCALENDAR