BEGIN:VCALENDAR
VERSION:2.0
PRODID:-//Explore North Augusta - ECPv6.15.20//NONSGML v1.0//EN
CALSCALE:GREGORIAN
METHOD:PUBLISH
X-WR-CALNAME:Explore North Augusta
X-ORIGINAL-URL:https://explorenorthaugusta.com
X-WR-CALDESC:Events for Explore North Augusta
REFRESH-INTERVAL;VALUE=DURATION:PT1H
X-Robots-Tag:noindex
X-PUBLISHED-TTL:PT1H
BEGIN:VTIMEZONE
TZID:America/New_York
BEGIN:DAYLIGHT
TZOFFSETFROM:-0500
TZOFFSETTO:-0400
TZNAME:EDT
DTSTART:20250309T070000
END:DAYLIGHT
BEGIN:STANDARD
TZOFFSETFROM:-0400
TZOFFSETTO:-0500
TZNAME:EST
DTSTART:20251102T060000
END:STANDARD
BEGIN:DAYLIGHT
TZOFFSETFROM:-0500
TZOFFSETTO:-0400
TZNAME:EDT
DTSTART:20260308T070000
END:DAYLIGHT
BEGIN:STANDARD
TZOFFSETFROM:-0400
TZOFFSETTO:-0500
TZNAME:EST
DTSTART:20261101T060000
END:STANDARD
BEGIN:DAYLIGHT
TZOFFSETFROM:-0500
TZOFFSETTO:-0400
TZNAME:EDT
DTSTART:20270314T070000
END:DAYLIGHT
BEGIN:STANDARD
TZOFFSETFROM:-0400
TZOFFSETTO:-0500
TZNAME:EST
DTSTART:20271107T060000
END:STANDARD
END:VTIMEZONE
BEGIN:VEVENT
DTSTART;TZID=America/New_York:20260606T100000
DTEND;TZID=America/New_York:20260606T130000
DTSTAMP:20260420T081540
CREATED:20260416T143713Z
LAST-MODIFIED:20260416T143713Z
UID:10001868-1780740000-1780750800@explorenorthaugusta.com
SUMMARY:Y Community Block Party - YMCA Grand Opening
DESCRIPTION:Save the Date The North Augusta YMCA is celebrating their Grand Opening of their new building with a FREE Y Community Block Party on June 6th!\nBring your friends & family to enjoy: Live Performances on the Y Community Stage by: North Augusta School of Dance\, Star Dance Academy\, North Augusta Highschool Cheerleaders\, YMCA Fitness Team and more! A Celebrity Pickleball Tournament (Teams to be announced soon!) Kids Zone with inflatable games Local Food Trucks: Bakery’s Mann Sweet n Savory\, Hawaiian Style BBQ Augusta\, KB Deli & Bread Co\, Beefed Up\, Pelican’s Snoballs & Coffee from 7 Brew Coffee Tours of the new YMCA Fitness class demos\nNew North Augusta YMCA: 406 E. Martintown Road\, North Augusta\, SC\nThis event is free & open to the community. Come explore the new Y\, meet your neighbors\, and experience all the ways the YMCA supports health\, wellness\, and connection in North Augusta._______\nInterested in becoming a supporter or hosting a booth?Contact Melanie Quick at MQuick@TheFamilyY.org for more information.
URL:https://explorenorthaugusta.com/calendar/y-community-block-party-ymca-grand-opening/
LOCATION:North Augusta YMCA\, 406 E Martintown Road\, North Augusta\, SC\, 29841\, United States
ATTACH;FMTTYPE=image/jpeg:https://explorenorthaugusta.com/wp-content/uploads/2026/04/YGrandOpening.jpg
ORGANIZER;CN="North Augusta YMCA":MAILTO:drawlins@thefamilyy.org
END:VEVENT
END:VCALENDAR