BEGIN:VCALENDAR
VERSION:2.0
PRODID:-//Explore North Augusta - ECPv6.15.20//NONSGML v1.0//EN
CALSCALE:GREGORIAN
METHOD:PUBLISH
X-ORIGINAL-URL:https://explorenorthaugusta.com
X-WR-CALDESC:Events for Explore North Augusta
REFRESH-INTERVAL;VALUE=DURATION:PT1H
X-Robots-Tag:noindex
X-PUBLISHED-TTL:PT1H
BEGIN:VTIMEZONE
TZID:America/New_York
BEGIN:DAYLIGHT
TZOFFSETFROM:-0500
TZOFFSETTO:-0400
TZNAME:EDT
DTSTART:20250309T070000
END:DAYLIGHT
BEGIN:STANDARD
TZOFFSETFROM:-0400
TZOFFSETTO:-0500
TZNAME:EST
DTSTART:20251102T060000
END:STANDARD
BEGIN:DAYLIGHT
TZOFFSETFROM:-0500
TZOFFSETTO:-0400
TZNAME:EDT
DTSTART:20260308T070000
END:DAYLIGHT
BEGIN:STANDARD
TZOFFSETFROM:-0400
TZOFFSETTO:-0500
TZNAME:EST
DTSTART:20261101T060000
END:STANDARD
BEGIN:DAYLIGHT
TZOFFSETFROM:-0500
TZOFFSETTO:-0400
TZNAME:EDT
DTSTART:20270314T070000
END:DAYLIGHT
BEGIN:STANDARD
TZOFFSETFROM:-0400
TZOFFSETTO:-0500
TZNAME:EST
DTSTART:20271107T060000
END:STANDARD
END:VTIMEZONE
BEGIN:VEVENT
DTSTART;TZID=America/New_York:20260507T090000
DTEND;TZID=America/New_York:20260507T160000
DTSTAMP:20260424T100503
CREATED:20260416T152620Z
LAST-MODIFIED:20260416T152620Z
UID:10001874-1778144400-1778169600@explorenorthaugusta.com
SUMMARY:Affordable Mobile Vet Clinic
DESCRIPTION:FONAA and Animal House Grooming are partnering to bring an affordable spay/neuter clinic to North Augusta. For all Spay/neuters\, you must sign up for an appointment and drop off your pet at the time you are provided when you schedule\n\n*Note: You do need an appointment! Be sure to use link below to make your appointment. Find Animal House for this date when you make your apt. Times listed here are just approximate\, but you will be given a specific time for your pet when you make your appointment.\nAppointment link: Bit.ly/cpahmobilespayneuterclinic\n\nBE SURE TO DROP OFF PET AT TIME YOU ARE GIVEN. We prefer you not come early because it creates congestion at check in.\n\nThe clinic will be at Animal House Grooming\, which is in the North Augusta Exit 5 Walmart shopping plaza near Great Clips and Feedsack. Limited Financial Assistance is available\, so please msg FONAA or text 803-426-9096 to apply for assistance. For General or vet care related questions\, text or call 803-374-8544
URL:https://explorenorthaugusta.com/calendar/affordable-mobile-vet-clinic/
LOCATION:Animal House Grooming\, 1069 Edgefield Road\, North Augusta\, SC\, 29860\, United States
END:VEVENT
END:VCALENDAR