BEGIN:VCALENDAR
VERSION:2.0
PRODID:-//Explore North Augusta - ECPv6.15.20//NONSGML v1.0//EN
CALSCALE:GREGORIAN
METHOD:PUBLISH
X-WR-CALNAME:Explore North Augusta
X-ORIGINAL-URL:https://explorenorthaugusta.com
X-WR-CALDESC:Events for Explore North Augusta
REFRESH-INTERVAL;VALUE=DURATION:PT1H
X-Robots-Tag:noindex
X-PUBLISHED-TTL:PT1H
BEGIN:VTIMEZONE
TZID:America/New_York
BEGIN:DAYLIGHT
TZOFFSETFROM:-0500
TZOFFSETTO:-0400
TZNAME:EDT
DTSTART:20250309T070000
END:DAYLIGHT
BEGIN:STANDARD
TZOFFSETFROM:-0400
TZOFFSETTO:-0500
TZNAME:EST
DTSTART:20251102T060000
END:STANDARD
BEGIN:DAYLIGHT
TZOFFSETFROM:-0500
TZOFFSETTO:-0400
TZNAME:EDT
DTSTART:20260308T070000
END:DAYLIGHT
BEGIN:STANDARD
TZOFFSETFROM:-0400
TZOFFSETTO:-0500
TZNAME:EST
DTSTART:20261101T060000
END:STANDARD
BEGIN:DAYLIGHT
TZOFFSETFROM:-0500
TZOFFSETTO:-0400
TZNAME:EDT
DTSTART:20270314T070000
END:DAYLIGHT
BEGIN:STANDARD
TZOFFSETFROM:-0400
TZOFFSETTO:-0500
TZNAME:EST
DTSTART:20271107T060000
END:STANDARD
END:VTIMEZONE
BEGIN:VEVENT
DTSTART;TZID=America/New_York:20260516T110000
DTEND;TZID=America/New_York:20260516T121500
DTSTAMP:20260422T053201
CREATED:20260416T200318Z
LAST-MODIFIED:20260416T200318Z
UID:12480-1778929200-1778933700@explorenorthaugusta.com
SUMMARY:Soap Making & Rock Painting Class for Kids (Ages 6+)
DESCRIPTION:Creative Soap Making for Kids- In this hands-on class\, kids explore the science behind soap while creating their own colorful\, great-smelling bars. Students explore how ingredients melt\, mix\, and transform while practicing measuring\, design and creative thinking. Along the way they learn why soap works\, how chemistry is used in everyday life\, and how artists and makers turn simple materials into useful products. Each child leaves with their own handmade soaps and a better understanding of science\, creativity\, and real-world skills. \n\nSign up today!
URL:https://explorenorthaugusta.com/calendar/soap-making-rock-painting-class-for-kids-ages-6/
LOCATION:Create and Learn North Augusta\, 527 Georgia Avenue\, North Augusta\, SC\, 29841\, United States
ATTACH;FMTTYPE=image/webp:https://explorenorthaugusta.com/wp-content/uploads/2026/04/Soap.webp
ORGANIZER;CN="Create and Learn North Augusta":MAILTO:hello@nacreate.art
END:VEVENT
END:VCALENDAR