BEGIN:VCALENDAR
VERSION:2.0
PRODID:-//Explore North Augusta - ECPv6.15.20//NONSGML v1.0//EN
CALSCALE:GREGORIAN
METHOD:PUBLISH
X-WR-CALNAME:Explore North Augusta
X-ORIGINAL-URL:https://explorenorthaugusta.com
X-WR-CALDESC:Events for Explore North Augusta
REFRESH-INTERVAL;VALUE=DURATION:PT1H
X-Robots-Tag:noindex
X-PUBLISHED-TTL:PT1H
BEGIN:VTIMEZONE
TZID:America/New_York
BEGIN:DAYLIGHT
TZOFFSETFROM:-0500
TZOFFSETTO:-0400
TZNAME:EDT
DTSTART:20250309T070000
END:DAYLIGHT
BEGIN:STANDARD
TZOFFSETFROM:-0400
TZOFFSETTO:-0500
TZNAME:EST
DTSTART:20251102T060000
END:STANDARD
BEGIN:DAYLIGHT
TZOFFSETFROM:-0500
TZOFFSETTO:-0400
TZNAME:EDT
DTSTART:20260308T070000
END:DAYLIGHT
BEGIN:STANDARD
TZOFFSETFROM:-0400
TZOFFSETTO:-0500
TZNAME:EST
DTSTART:20261101T060000
END:STANDARD
BEGIN:DAYLIGHT
TZOFFSETFROM:-0500
TZOFFSETTO:-0400
TZNAME:EDT
DTSTART:20270314T070000
END:DAYLIGHT
BEGIN:STANDARD
TZOFFSETFROM:-0400
TZOFFSETTO:-0500
TZNAME:EST
DTSTART:20271107T060000
END:STANDARD
END:VTIMEZONE
BEGIN:VEVENT
DTSTART;TZID=America/New_York:20261002T090000
DTEND;TZID=America/New_York:20261002T110000
DTSTAMP:20260422T052625
CREATED:20260416T141115Z
LAST-MODIFIED:20260416T141115Z
UID:10001856-1790931600-1790938800@explorenorthaugusta.com
SUMMARY:Eco Explorers
DESCRIPTION:Become an Eco Explorer at Phinizy Swamp Nature Park as you discover the important work done to ensure the safety and quality of Augusta’s water. Then\, you become a scientist by jumping into some waders\, collecting\, assessing\, and analyzing the health and quality of water.\n\nThis is a 1.5 – 2 hour experience for adults where you will be mostly outdoors.\n\nRegistration required.
URL:https://explorenorthaugusta.com/calendar/eco-explorers-10/
LOCATION:Phinizy Swamp Nature Park\, 1858 Lock and Dam Road\, Augusta\, GA\, 30906\, United States
ATTACH;FMTTYPE=image/jpeg:https://explorenorthaugusta.com/wp-content/uploads/2026/04/PhinizyCenterEcoExplorer.jpg
ORGANIZER;CN="Phinizy Swamp Nature Park":MAILTO:info@phinizycenter.org
END:VEVENT
BEGIN:VEVENT
DTSTART;TZID=America/New_York:20261002T170000
DTEND;TZID=America/New_York:20261002T180000
DTSTAMP:20260422T052625
CREATED:20260416T194422Z
LAST-MODIFIED:20260416T194422Z
UID:10001952-1790960400-1790964000@explorenorthaugusta.com
SUMMARY:Line Dancing Class
DESCRIPTION:Join North Augusta Parks and Recreation for a fun and welcoming line dancing class! Whether you’re a beginner or have some experience\, this event is a great opportunity to get active\, learn new dance steps\, and enjoy time with the community. No membership requires just pay $8.
URL:https://explorenorthaugusta.com/calendar/line-dancing-class-24/
LOCATION:Riverview Park Activities Center\, 100 Riverview Park Dirve\, North Augusta\, SC\, 29841\, United States
END:VEVENT
BEGIN:VEVENT
DTSTART;TZID=America/New_York:20261002T170000
DTEND;TZID=America/New_York:20261002T200000
DTSTAMP:20260422T052625
CREATED:20260105T193632Z
LAST-MODIFIED:20260105T193632Z
UID:10001671-1790960400-1790971200@explorenorthaugusta.com
SUMMARY:First Friday Wine Tasting
DESCRIPTION: First Friday Wine Tastings — make it your new monthly tradition! \nJoin the Grove Gourmet Market every First Friday for a fun\, relaxed wine experience that fits any plan. Come with a group of friends\, enjoy a date night\, or stop in solo and mingle. Swing by on your way out to dinner or turn it into a full night of sipping and snacking — they’re open until 8 PM\, so there’s plenty of time to enjoy.\nThey’ll be pouring 3 hand-selected wines\, each paired with 3 thoughtfully curated bites. Every month features a new theme\, with a wine rep\, food expert\, or sommelier on-site to guide you through the tasting and share pairing tips.\n Tasting night perks:• Wines sampled are available by the glass during the event• Tasting participants enjoy 10% off all items featured in the tasting\n No reservations needed — just drop in! $10 per person | 21+ only (ID required) Includes 3 tastings (1 oz wine + 1 paired bite each)\nMake it a tradition\, discover new favorites\, and enjoy a night that’s as casual or social as you want. Come sip\, snack\, and explore with The Grove Gourmet Market!
URL:https://explorenorthaugusta.com/calendar/first-friday-wine-tasting-10/
LOCATION:The Grove Gourmet Market\, 509 Georgia Avenue\, North Augusta\, SC\, 29841\, United States
ATTACH;FMTTYPE=image/jpeg:https://explorenorthaugusta.com/wp-content/uploads/2025/07/FFWTGROVE.jpg
ORGANIZER;CN="The Grove Gourmet Market":MAILTO:Info@grovegourmetmarket.com
END:VEVENT
BEGIN:VEVENT
DTSTART;TZID=America/New_York:20261003T090000
DTEND;TZID=America/New_York:20261003T110000
DTSTAMP:20260422T052625
CREATED:20260416T141129Z
LAST-MODIFIED:20260416T141129Z
UID:10001857-1791018000-1791025200@explorenorthaugusta.com
SUMMARY:Eco Explorers
DESCRIPTION:Become an Eco Explorer at Phinizy Swamp Nature Park as you discover the important work done to ensure the safety and quality of Augusta’s water. Then\, you become a scientist by jumping into some waders\, collecting\, assessing\, and analyzing the health and quality of water.\n\nThis is a 1.5 – 2 hour experience for adults where you will be mostly outdoors.\n\nRegistration required.
URL:https://explorenorthaugusta.com/calendar/eco-explorers-11/
LOCATION:Phinizy Swamp Nature Park\, 1858 Lock and Dam Road\, Augusta\, GA\, 30906\, United States
ATTACH;FMTTYPE=image/jpeg:https://explorenorthaugusta.com/wp-content/uploads/2026/04/PhinizyCenterEcoExplorer.jpg
ORGANIZER;CN="Phinizy Swamp Nature Park":MAILTO:info@phinizycenter.org
END:VEVENT
BEGIN:VEVENT
DTSTART;TZID=America/New_York:20261009T170000
DTEND;TZID=America/New_York:20261009T180000
DTSTAMP:20260422T052625
CREATED:20260416T194433Z
LAST-MODIFIED:20260416T194433Z
UID:10001953-1791565200-1791568800@explorenorthaugusta.com
SUMMARY:Line Dancing Class
DESCRIPTION:Join North Augusta Parks and Recreation for a fun and welcoming line dancing class! Whether you’re a beginner or have some experience\, this event is a great opportunity to get active\, learn new dance steps\, and enjoy time with the community. No membership requires just pay $8.
URL:https://explorenorthaugusta.com/calendar/line-dancing-class-25/
LOCATION:Riverview Park Activities Center\, 100 Riverview Park Dirve\, North Augusta\, SC\, 29841\, United States
END:VEVENT
BEGIN:VEVENT
DTSTART;TZID=America/New_York:20261016T170000
DTEND;TZID=America/New_York:20261016T180000
DTSTAMP:20260422T052625
CREATED:20260416T194443Z
LAST-MODIFIED:20260416T194443Z
UID:10001954-1792170000-1792173600@explorenorthaugusta.com
SUMMARY:Line Dancing Class
DESCRIPTION:Join North Augusta Parks and Recreation for a fun and welcoming line dancing class! Whether you’re a beginner or have some experience\, this event is a great opportunity to get active\, learn new dance steps\, and enjoy time with the community. No membership requires just pay $8.
URL:https://explorenorthaugusta.com/calendar/line-dancing-class-26/
LOCATION:Riverview Park Activities Center\, 100 Riverview Park Dirve\, North Augusta\, SC\, 29841\, United States
END:VEVENT
BEGIN:VEVENT
DTSTART;TZID=America/New_York:20261023T170000
DTEND;TZID=America/New_York:20261023T180000
DTSTAMP:20260422T052625
CREATED:20260416T194454Z
LAST-MODIFIED:20260416T194454Z
UID:10001955-1792774800-1792778400@explorenorthaugusta.com
SUMMARY:Line Dancing Class
DESCRIPTION:Join North Augusta Parks and Recreation for a fun and welcoming line dancing class! Whether you’re a beginner or have some experience\, this event is a great opportunity to get active\, learn new dance steps\, and enjoy time with the community. No membership requires just pay $8.
URL:https://explorenorthaugusta.com/calendar/line-dancing-class-27/
LOCATION:Riverview Park Activities Center\, 100 Riverview Park Dirve\, North Augusta\, SC\, 29841\, United States
END:VEVENT
BEGIN:VEVENT
DTSTART;TZID=America/New_York:20261030T170000
DTEND;TZID=America/New_York:20261030T180000
DTSTAMP:20260422T052625
CREATED:20260416T194503Z
LAST-MODIFIED:20260416T194503Z
UID:10001956-1793379600-1793383200@explorenorthaugusta.com
SUMMARY:Line Dancing Class
DESCRIPTION:Join North Augusta Parks and Recreation for a fun and welcoming line dancing class! Whether you’re a beginner or have some experience\, this event is a great opportunity to get active\, learn new dance steps\, and enjoy time with the community. No membership requires just pay $8.
URL:https://explorenorthaugusta.com/calendar/line-dancing-class-28/
LOCATION:Riverview Park Activities Center\, 100 Riverview Park Dirve\, North Augusta\, SC\, 29841\, United States
END:VEVENT
END:VCALENDAR