BEGIN:VCALENDAR
VERSION:2.0
PRODID:-//Explore North Augusta - ECPv6.15.20//NONSGML v1.0//EN
CALSCALE:GREGORIAN
METHOD:PUBLISH
X-WR-CALNAME:Explore North Augusta
X-ORIGINAL-URL:https://explorenorthaugusta.com
X-WR-CALDESC:Events for Explore North Augusta
REFRESH-INTERVAL;VALUE=DURATION:PT1H
X-Robots-Tag:noindex
X-PUBLISHED-TTL:PT1H
BEGIN:VTIMEZONE
TZID:America/New_York
BEGIN:DAYLIGHT
TZOFFSETFROM:-0500
TZOFFSETTO:-0400
TZNAME:EDT
DTSTART:20250309T070000
END:DAYLIGHT
BEGIN:STANDARD
TZOFFSETFROM:-0400
TZOFFSETTO:-0500
TZNAME:EST
DTSTART:20251102T060000
END:STANDARD
BEGIN:DAYLIGHT
TZOFFSETFROM:-0500
TZOFFSETTO:-0400
TZNAME:EDT
DTSTART:20260308T070000
END:DAYLIGHT
BEGIN:STANDARD
TZOFFSETFROM:-0400
TZOFFSETTO:-0500
TZNAME:EST
DTSTART:20261101T060000
END:STANDARD
BEGIN:DAYLIGHT
TZOFFSETFROM:-0500
TZOFFSETTO:-0400
TZNAME:EDT
DTSTART:20270314T070000
END:DAYLIGHT
BEGIN:STANDARD
TZOFFSETFROM:-0400
TZOFFSETTO:-0500
TZNAME:EST
DTSTART:20271107T060000
END:STANDARD
END:VTIMEZONE
BEGIN:VEVENT
DTSTART;TZID=America/New_York:20260618T180000
DTEND;TZID=America/New_York:20260618T190000
DTSTAMP:20260422T071833
CREATED:20260416T150807Z
LAST-MODIFIED:20260416T150807Z
UID:12271-1781805600-1781809200@explorenorthaugusta.com
SUMMARY:Donuts with Dad Fun Run
DESCRIPTION:Celebrate Father’s Day with a Fun Run!\nJoin Fleet Feet on Saturday\, June 18th at 6:00PM at their North Augusta location for a casual\, family-friendly Father’s Day Fun Run!Whether you’re running\, jogging\, or walking\, it’s a great way to honor the dads in your life.\nAfter the run\, stick around to enjoy donuts\, refreshments\, and good company.\nAll ages and paces welcome — they can’t wait to see you there!\nAltra will also be there to demo shoes!!
URL:https://explorenorthaugusta.com/calendar/donuts-with-dad-fun-run/
LOCATION:Fleet Feet\, 210 Georgia Avenue\, North Augusta\, SC\, 29841\, United States
ATTACH;FMTTYPE=image/jpeg:https://explorenorthaugusta.com/wp-content/uploads/2026/04/DadFunRun.jpg
END:VEVENT
END:VCALENDAR