BEGIN:VCALENDAR
VERSION:2.0
PRODID:-//Explore North Augusta - ECPv6.15.20//NONSGML v1.0//EN
CALSCALE:GREGORIAN
METHOD:PUBLISH
X-WR-CALNAME:Explore North Augusta
X-ORIGINAL-URL:https://explorenorthaugusta.com
X-WR-CALDESC:Events for Explore North Augusta
REFRESH-INTERVAL;VALUE=DURATION:PT1H
X-Robots-Tag:noindex
X-PUBLISHED-TTL:PT1H
BEGIN:VTIMEZONE
TZID:America/New_York
BEGIN:DAYLIGHT
TZOFFSETFROM:-0500
TZOFFSETTO:-0400
TZNAME:EDT
DTSTART:20250309T070000
END:DAYLIGHT
BEGIN:STANDARD
TZOFFSETFROM:-0400
TZOFFSETTO:-0500
TZNAME:EST
DTSTART:20251102T060000
END:STANDARD
BEGIN:DAYLIGHT
TZOFFSETFROM:-0500
TZOFFSETTO:-0400
TZNAME:EDT
DTSTART:20260308T070000
END:DAYLIGHT
BEGIN:STANDARD
TZOFFSETFROM:-0400
TZOFFSETTO:-0500
TZNAME:EST
DTSTART:20261101T060000
END:STANDARD
BEGIN:DAYLIGHT
TZOFFSETFROM:-0500
TZOFFSETTO:-0400
TZNAME:EDT
DTSTART:20270314T070000
END:DAYLIGHT
BEGIN:STANDARD
TZOFFSETFROM:-0400
TZOFFSETTO:-0500
TZNAME:EST
DTSTART:20271107T060000
END:STANDARD
END:VTIMEZONE
BEGIN:VEVENT
DTSTART;TZID=America/New_York:20260421T160000
DTEND;TZID=America/New_York:20260421T180000
DTSTAMP:20260420T064709
CREATED:20260416T142300Z
LAST-MODIFIED:20260416T142300Z
UID:12246-1776787200-1776794400@explorenorthaugusta.com
SUMMARY:Disney Karaoke Party
DESCRIPTION:Get ready to sing your heart out as the Nancy Carson Library presents their Disney Karaoke Party! Join them on Tuesday\, April 21 at 4:00 PM for an afternoon of music\, fun\, and your favorite Disney songs. From classic favorites to modern hits\, kids and families are invited to take the stage and perform beloved tunes from Disney movies. Costumes and singing along with friends are encouraged!  No registration required\, just bring your voice and your Disney spirit!
URL:https://explorenorthaugusta.com/calendar/disney-karaoke-party/
LOCATION:Nancy Carson Library\, 135 Edgefield Road\, North Augusta\, SC\, 29841\, United States
ATTACH;FMTTYPE=image/jpeg:https://explorenorthaugusta.com/wp-content/uploads/2026/04/NCLDisneyKaraoke.jpg
END:VEVENT
END:VCALENDAR