BEGIN:VCALENDAR
VERSION:2.0
PRODID:-//Explore North Augusta - ECPv6.15.20//NONSGML v1.0//EN
CALSCALE:GREGORIAN
METHOD:PUBLISH
X-ORIGINAL-URL:https://explorenorthaugusta.com
X-WR-CALDESC:Events for Explore North Augusta
REFRESH-INTERVAL;VALUE=DURATION:PT1H
X-Robots-Tag:noindex
X-PUBLISHED-TTL:PT1H
BEGIN:VTIMEZONE
TZID:America/New_York
BEGIN:DAYLIGHT
TZOFFSETFROM:-0500
TZOFFSETTO:-0400
TZNAME:EDT
DTSTART:20250309T070000
END:DAYLIGHT
BEGIN:STANDARD
TZOFFSETFROM:-0400
TZOFFSETTO:-0500
TZNAME:EST
DTSTART:20251102T060000
END:STANDARD
BEGIN:DAYLIGHT
TZOFFSETFROM:-0500
TZOFFSETTO:-0400
TZNAME:EDT
DTSTART:20260308T070000
END:DAYLIGHT
BEGIN:STANDARD
TZOFFSETFROM:-0400
TZOFFSETTO:-0500
TZNAME:EST
DTSTART:20261101T060000
END:STANDARD
BEGIN:DAYLIGHT
TZOFFSETFROM:-0500
TZOFFSETTO:-0400
TZNAME:EDT
DTSTART:20270314T070000
END:DAYLIGHT
BEGIN:STANDARD
TZOFFSETFROM:-0400
TZOFFSETTO:-0500
TZNAME:EST
DTSTART:20271107T060000
END:STANDARD
END:VTIMEZONE
BEGIN:VEVENT
DTSTART;TZID=America/New_York:20260808T090000
DTEND;TZID=America/New_York:20260808T110000
DTSTAMP:20260420T081723
CREATED:20260416T141020Z
LAST-MODIFIED:20260416T141020Z
UID:10001853-1786179600-1786186800@explorenorthaugusta.com
SUMMARY:Eco Explorers
DESCRIPTION:Become an Eco Explorer at Phinizy Swamp Nature Park as you discover the important work done to ensure the safety and quality of Augusta’s water. Then\, you become a scientist by jumping into some waders\, collecting\, assessing\, and analyzing the health and quality of water.\n\nThis is a 1.5 – 2 hour experience for adults where you will be mostly outdoors.\n\nRegistration required.
URL:https://explorenorthaugusta.com/calendar/eco-explorers-7/
LOCATION:Phinizy Swamp Nature Park\, 1858 Lock and Dam Road\, Augusta\, GA\, 30906\, United States
ATTACH;FMTTYPE=image/jpeg:https://explorenorthaugusta.com/wp-content/uploads/2026/04/PhinizyCenterEcoExplorer.jpg
ORGANIZER;CN="Phinizy Swamp Nature Park":MAILTO:info@phinizycenter.org
END:VEVENT
END:VCALENDAR