BEGIN:VCALENDAR
VERSION:2.0
PRODID:-//Explore North Augusta - ECPv6.15.20//NONSGML v1.0//EN
CALSCALE:GREGORIAN
METHOD:PUBLISH
X-ORIGINAL-URL:https://explorenorthaugusta.com
X-WR-CALDESC:Events for Explore North Augusta
REFRESH-INTERVAL;VALUE=DURATION:PT1H
X-Robots-Tag:noindex
X-PUBLISHED-TTL:PT1H
BEGIN:VTIMEZONE
TZID:America/New_York
BEGIN:DAYLIGHT
TZOFFSETFROM:-0500
TZOFFSETTO:-0400
TZNAME:EDT
DTSTART:20250309T070000
END:DAYLIGHT
BEGIN:STANDARD
TZOFFSETFROM:-0400
TZOFFSETTO:-0500
TZNAME:EST
DTSTART:20251102T060000
END:STANDARD
BEGIN:DAYLIGHT
TZOFFSETFROM:-0500
TZOFFSETTO:-0400
TZNAME:EDT
DTSTART:20260308T070000
END:DAYLIGHT
BEGIN:STANDARD
TZOFFSETFROM:-0400
TZOFFSETTO:-0500
TZNAME:EST
DTSTART:20261101T060000
END:STANDARD
BEGIN:DAYLIGHT
TZOFFSETFROM:-0500
TZOFFSETTO:-0400
TZNAME:EDT
DTSTART:20270314T070000
END:DAYLIGHT
BEGIN:STANDARD
TZOFFSETFROM:-0400
TZOFFSETTO:-0500
TZNAME:EST
DTSTART:20271107T060000
END:STANDARD
END:VTIMEZONE
BEGIN:VEVENT
DTSTART;TZID=America/New_York:20260718T110000
DTEND;TZID=America/New_York:20260718T170000
DTSTAMP:20260420T065448
CREATED:20260304T211753Z
LAST-MODIFIED:20260304T211753Z
UID:10001806-1784372400-1784394000@explorenorthaugusta.com
SUMMARY:1st Annual Milltown Showdown
DESCRIPTION:Get ready for a weekend of pure adrenaline as the Southern Outlaw Dragboat Association brings high-horsepower dragboat racing to Langley Pond in South Carolina for the 1st Annual Milltown Showdown\, July 18–19\, 2026. Benefits and proceeds the Hooked on Wounded Warriors Project.\n\nExperience the thunder of outlaw dragboats as top competitors from across the region go head-to-head in side-by-side racing on the water. With screaming engines\, blistering speeds\, and nonstop action\, this is a must-see event for racing fans\, families\, and anyone who loves motorsports.\n\n Location: Langley Pond – South Carolina Dates: July 18–19\, 2026\n\nExpect intense competition\, fan-friendly vibes\, and unforgettable summer racing as the Southern Outlaw Dragboat Association delivers one of the season’s premier events. Don’t miss the heat\, the speed\, and the showdown on the water.
URL:https://explorenorthaugusta.com/calendar/1st-annual-milltown-showdown/
LOCATION:Langley Pond Park\, 113 Langley Dam Rd\, Warrenville\, SC\, 29851\, United States
ATTACH;FMTTYPE=image/jpeg:https://explorenorthaugusta.com/wp-content/uploads/2026/03/LangleyDragboat2026.jpg
ORGANIZER;CN="Southern Outlaw Dragboat Association":MAILTO:jayjacksonjcsandfs@gmail.com
END:VEVENT
END:VCALENDAR