BEGIN:VCALENDAR
VERSION:2.0
PRODID:-//Explore North Augusta - ECPv6.15.20//NONSGML v1.0//EN
CALSCALE:GREGORIAN
METHOD:PUBLISH
X-WR-CALNAME:Explore North Augusta
X-ORIGINAL-URL:https://explorenorthaugusta.com
X-WR-CALDESC:Events for Explore North Augusta
REFRESH-INTERVAL;VALUE=DURATION:PT1H
X-Robots-Tag:noindex
X-PUBLISHED-TTL:PT1H
BEGIN:VTIMEZONE
TZID:America/New_York
BEGIN:DAYLIGHT
TZOFFSETFROM:-0500
TZOFFSETTO:-0400
TZNAME:EDT
DTSTART:20250309T070000
END:DAYLIGHT
BEGIN:STANDARD
TZOFFSETFROM:-0400
TZOFFSETTO:-0500
TZNAME:EST
DTSTART:20251102T060000
END:STANDARD
BEGIN:DAYLIGHT
TZOFFSETFROM:-0500
TZOFFSETTO:-0400
TZNAME:EDT
DTSTART:20260308T070000
END:DAYLIGHT
BEGIN:STANDARD
TZOFFSETFROM:-0400
TZOFFSETTO:-0500
TZNAME:EST
DTSTART:20261101T060000
END:STANDARD
BEGIN:DAYLIGHT
TZOFFSETFROM:-0500
TZOFFSETTO:-0400
TZNAME:EDT
DTSTART:20270314T070000
END:DAYLIGHT
BEGIN:STANDARD
TZOFFSETFROM:-0400
TZOFFSETTO:-0500
TZNAME:EST
DTSTART:20271107T060000
END:STANDARD
END:VTIMEZONE
BEGIN:VEVENT
DTSTART;TZID=America/New_York:20260528T150000
DTEND;TZID=America/New_York:20260528T170000
DTSTAMP:20260420T065132
CREATED:20260416T151241Z
LAST-MODIFIED:20260416T151241Z
UID:10001873-1779980400-1779987600@explorenorthaugusta.com
SUMMARY:Genealogy 101
DESCRIPTION:Looking to discover more about your family tree? Learn how with Jennifer Dorn at Genealogy 101. This class is free to attend\, but registration is required by May 21st. Register in person or by phone at the Nancy Carson Library (803)279-5767. See you there!
URL:https://explorenorthaugusta.com/calendar/genealogy-101/
LOCATION:Nancy Carson Library\, 135 Edgefield Road\, North Augusta\, SC\, 29841\, United States
ATTACH;FMTTYPE=image/jpeg:https://explorenorthaugusta.com/wp-content/uploads/2026/04/NCLGenealogy.jpg
END:VEVENT
BEGIN:VEVENT
DTSTART;TZID=America/New_York:20260528T170000
DTEND;TZID=America/New_York:20260528T180000
DTSTAMP:20260420T065132
CREATED:20260105T164750Z
LAST-MODIFIED:20260105T164750Z
UID:10001609-1779987600-1779991200@explorenorthaugusta.com
SUMMARY:DASH Kid's Fun Run
DESCRIPTION:DASH Kid’s Fun Run!!!\nThursdays from 5:00-6:00pm at Fleet Feet North Augusta (210 Georgia Ave. North Augusta\, SC 29841)\nDedicated\, Active\, Strong\, Healthy. Keep kids moving and active too! Get the whole family together and join Fleet Feet Augusta & North Augusta for our DASH Kids Run/Walk. This 1-2 mile workout paired with games and activities will be fun for all.\n*Kids under the age of 8 need to be accompanied by a parent/guardian during the run/walk\, kids over the age of 8 need to have an adult on-site in case of emergencies.
URL:https://explorenorthaugusta.com/calendar/dash-kids-fun-run-17/
LOCATION:Fleet Feet\, 210 Georgia Avenue\, North Augusta\, SC\, 29841\, United States
ATTACH;FMTTYPE=image/jpeg:https://explorenorthaugusta.com/wp-content/uploads/2025/06/DashKidsRun.jpg
END:VEVENT
BEGIN:VEVENT
DTSTART;TZID=America/New_York:20260528T180000
DTEND;TZID=America/New_York:20260528T191500
DTSTAMP:20260420T065132
CREATED:20260416T142001Z
LAST-MODIFIED:20260416T142001Z
UID:10001865-1779991200-1779995700@explorenorthaugusta.com
SUMMARY:Game Night
DESCRIPTION:Once a month\, the Nancy Carson Library’s meeting room transforms into a game hub for all ages. Enjoy their Nintendo Switch lineup\, including Mario Kart and Super Smash Bros.\, along with a wide selection of board and card games. Popcorn will be provided. Open to ages 6 and up. They will begin clean-up at 7:15.
URL:https://explorenorthaugusta.com/calendar/game-night-2/
LOCATION:Nancy Carson Library\, 135 Edgefield Road\, North Augusta\, SC\, 29841\, United States
ATTACH;FMTTYPE=image/jpeg:https://explorenorthaugusta.com/wp-content/uploads/2026/04/NCLGameNight.jpg
END:VEVENT
BEGIN:VEVENT
DTSTART;TZID=America/New_York:20260528T190000
DTEND;TZID=America/New_York:20260528T200000
DTSTAMP:20260420T065132
CREATED:20260306T142504Z
LAST-MODIFIED:20260306T142504Z
UID:10001823-1779994800-1779998400@explorenorthaugusta.com
SUMMARY:Music in the Park
DESCRIPTION:Enjoy an evening of live music at Maude Edenfield Park with the North Augusta Cultural Arts Council’s Music in the Park concert series. Concerts begin at 7:00 PM. Guests are encouraged to bring a chair or blanket\, and picnics are welcome. \nIn case of rain or bad weather\, concerts will move indoors to the Community Center. \nOn May 28th\, Savannah River Brass Works (Brass Quintet) will be taking the stage. So bring your family and friends and come enjoy a relaxing night of music in the park.
URL:https://explorenorthaugusta.com/calendar/music-in-the-park-4/
LOCATION:Maude Edendfield Park\, 495 Brookside Avenue\, North Augusta\, SC\, 29841\, United States
ATTACH;FMTTYPE=image/jpeg:https://explorenorthaugusta.com/wp-content/uploads/2026/03/Music-in-the-Park-more.jpg
ORGANIZER;CN="North Augusta Cultural Arts Council":MAILTO:naartscouncil18@gmail.com
END:VEVENT
END:VCALENDAR